BEGIN:VCALENDAR
VERSION:2.0
PRODID:-//mέta - ECPv6.15.20//NONSGML v1.0//EN
CALSCALE:GREGORIAN
METHOD:PUBLISH
X-WR-CALNAME:mέta
X-ORIGINAL-URL:https://metacpc.org/en/
X-WR-CALDESC:Events for mέta
REFRESH-INTERVAL;VALUE=DURATION:PT1H
X-Robots-Tag:noindex
X-PUBLISHED-TTL:PT1H
BEGIN:VTIMEZONE
TZID:Europe/Athens
BEGIN:DAYLIGHT
TZOFFSETFROM:+0200
TZOFFSETTO:+0300
TZNAME:EEST
DTSTART:20220327T010000
END:DAYLIGHT
BEGIN:STANDARD
TZOFFSETFROM:+0300
TZOFFSETTO:+0200
TZNAME:EET
DTSTART:20221030T010000
END:STANDARD
BEGIN:DAYLIGHT
TZOFFSETFROM:+0200
TZOFFSETTO:+0300
TZNAME:EEST
DTSTART:20230326T010000
END:DAYLIGHT
BEGIN:STANDARD
TZOFFSETFROM:+0300
TZOFFSETTO:+0200
TZNAME:EET
DTSTART:20231029T010000
END:STANDARD
BEGIN:DAYLIGHT
TZOFFSETFROM:+0200
TZOFFSETTO:+0300
TZNAME:EEST
DTSTART:20240331T010000
END:DAYLIGHT
BEGIN:STANDARD
TZOFFSETFROM:+0300
TZOFFSETTO:+0200
TZNAME:EET
DTSTART:20241027T010000
END:STANDARD
END:VTIMEZONE
BEGIN:VEVENT
DTSTART;TZID=Europe/Athens:20230406T190000
DTEND;TZID=Europe/Athens:20230406T220000
DTSTAMP:20260421T221236
CREATED:20230327T163047Z
LAST-MODIFIED:20230404T085159Z
UID:11607-1680807600-1680818400@metacpc.org
SUMMARY:Photography exhibition "Inside the Image" | opening on Thursday\, April 6 (19:00) at 1927 art space
DESCRIPTION:mέta | Centre for Postcapitalist Civilisation\, the Focus School of Photography\, and the non-governmental organization The HOME Project\, which was created to provide shelter and a holistic framework of child protection services to unaccompanied refugee children who arrive in Greece alone\, are pleased to invite you to the photography exhibition “Inside the Image”\, which opens on Thursday\, April 6 (19:00) at 1927 art space (35 Kypselis Street\, Athens 113 61) and will last until the 10th of April. \n\n\n\nThe exhibition presents the works resulting from the photography workshop with unaccompanied refugee minors as part of the three co-organizers’ partnership under the title “3X3”. \n\n\n\nBased on the triptych “art-training-integration“\, mέta\, Focus and The HOME Project collaborated and brought together teachers\, photography students\, and unaccompanied children\, in a process of mutual enrichment in professional or pre-professional skills\, but also of refinement of empathy and intercultural perspective. \n\n\n\nParticular emphasis was placed on the appropriate preparation\, training\, and support from The HOME Project’s Child Protection Unit to the participating students and photography teachers before and during the implementation of the project. \n\n\n\nFor mέta\, its involvement in this partnership is not only a gesture of moral and material support for the valuable work of The HOME Project but also an act of empowerment of the children in their social integration efforts. \n\n\n\nAs the head of the workshop Pavlos Fisakis notes: \n\n\n\n“This is a workshop that comments on the medium of photography itself. The authors are part of photography\, they are both inside and outside the photographic act itself. \n\n\n\nThe group meetings were held at the children’s home in Kypseli and the confidence of the photographic team was built with a lot of effort as the unaccompanied minors who participated spoke many different languages (Greek\, English\, Arabic\, and Farsi). \n\n\n\nThe overarching goal of the workshop is to communicate and convey the children’s messages through the photographic process\, to emphasise the importance of collaboration through group projects\, and to explore the critical issue of personal identity.” \n\n\n\nThe WORKSHOP took place from December 2022 to March 2023 \n\n\n\nCoordinator: Pavlos Fisakis | Assistant Coordinator: Ariana Darvis-Tabar \n\n\n\nOpening \n\n\n\nThursday 6 April\, 19:00 \n\n\n\nExhibition hours \n\n\n\n– Thursday 6 April\, 19:00 Opening \n\n\n\n– Friday 7 April\, 18:00 – 22:00 \n\n\n\n– Saturday 8 April\, 12:00 – 15:00 and 18:00 – 20:00 \n\n\n\n– Sunday 9 April\, 12:00 – 16:00 \n\n\n\n– Monday 10 April\, 18:00 – 22:00 \n\n\n\nAddress: \n\n\n\n1927 art space (35 Kypselis Street\, Athens 113 61) 1st floor \n\n\n\nInformation about the co-organisers \n\n\n\nmέta | Center for Post-Capitalist Civilisation (https://metacpc.org/en/) \n\n\n\nmέta is an international research and cultural organisation\, associated with the parliamentary party MeRA25\, the European movement DiEM25 and Progressive International. Founded as a civil non-profit company in 2020\, it aims to map eutopic alternatives to the post-capitalist condition we have entered\, through academic and artistic actions related to the political\, social\, economic\, ecological\, cultural\, and civilisational challenges of the times. \n\n\n\nFocus\, School of Photography & Video (https://www.focus.edu.gr) \n\n\n\nThe Focus School of Photography and Video was founded in 1985. The vision of the founders was to create a specialised and friendly environment\, dedicated exclusively to photographic education\, which would provide all the necessary skills to shape the artistic and professional identity of the prospective photographer. \n\n\n\nIn a modern space in Zografou\, with fully equipped studios and classrooms\, Focus now offers students the opportunity to develop their creativity in photography and video\, with equal emphasis on learning new technologies. \n\n\n\nFocus is constantly broadening its horizons and since 2010 has initiated a series of collaborations in educational programs and exhibitions with important cultural institutions and foundations such as the EMST (National Museum of Contemporary Art\, Αthens)\, the Michael Cacoyannis Foundation and the National Opera House. \n\n\n\nThe HOME Project (www.homeproject.org) \n\n\n\nThe HOME Project is a non-profit organisation created to provide support\, protection\, education\, and social integration services to refugee children who arrive in Greece on their own. In 6 years\, we have established and run 13 shelters with a capacity of 240 children\, where we provide a holistic framework of child protection services through an individualised psycho-educational plan for each child\, including mental health services\, education\, and pedagogical and social support aimed at social integration. So far\, we have supported more than 1\,000 children and have provided 170 jobs. \n\n\n\n1927 art space (www.1927online.art.blog) \n\n\n\nThe independent art space 1927 was founded by Aktina Stathakis and Jerome Simeon. It has been operating in Kypseli since 2019\, with the goal of promoting artistic research and international exchanges between independent artists. In its programming\, it seeks to engage with social and political reality and give space to stories often marginalised by mainstream narratives.
URL:https://metacpc.org/en/activities/photo_exhibition/
CATEGORIES:PRODUCTIONS,WORKSHOPS,ΕXHIBITIONS
ATTACH;FMTTYPE=image/png:https://metacpc.org/wp-content/uploads/2023/03/home_project_SM-04WEB_EN-1.png
END:VEVENT
BEGIN:VEVENT
DTSTART;TZID=Europe/Athens:20230425T190000
DTEND;TZID=Europe/Athens:20230425T210000
DTSTAMP:20260421T221236
CREATED:20230407T161706Z
LAST-MODIFIED:20230407T180943Z
UID:11708-1682449200-1682456400@metacpc.org
SUMMARY:Book launch [in Greek]: The End of the Great Deviation: From Ukraine and the pandemic to the shaping of the new global order
DESCRIPTION:mέta\, the Centre for Postcapitalist Civilisation\, and Topos Books invite you to the book launch of “The End of the Great Deviation: From Ukraine and the pandemic to the shaping of the new global order” by Dimitris V. Peponis (Topos Books\, Series: mέta). \n\n\n\nPanel: \n\n\n\n\nCostas Isychos\, former Deputy Minister of Defence.\n\n\n\nVivi D. Kefala\, Professor of International Relations\, University of the Aegean\, Greece.\n\n\n\nKostas Koutsourelis\, author\, Neo Planodion\n\n\n\nNikos Xydakis\, former Deputy Minister of Foreign Affairs\n\n\n\nSotiris Roussos\, Professor of International Relations\, University of the Peloponnese\n\n\n\n\nmέta’s Press Officer Kostas Raptis will host the event. The author\, Dimitris V. Peponis\, and the book’s co-editor & research director at mέta\, Sotiris Mitralexis\, will offer a comment. \n\n\n\nA few lines on the book: \n\n\n\n\nWhat kind of world will we live in? What era is dawning before us? \n\n\n\nWe are living through the sunset of a world order and the dawn of a new macro-historical cycle. \n\n\n\nTaking the war in Ukraine and the crisis of the pandemic as its starting point\, the book outlines the shaping of a new global order and discusses the completion of three different and partly overlapping historical cycles: the post-Cold War order (1991-)\, the post-war world (1945-) and a great era of human history (19th century-)\, the ‘Age of the Great Deviation’. By the middle of the 21st century\, and with 2037 as a landmark year\, the three historical cycles that have defined the metamorphoses of order during the last two centuries will have been completed: the Great Deviation will expire. \n\n\n\nFrom history to political geography\, from the completion of the American hegemonic period to the return of Asia\, from technology to demography\, and from modernity to postsecularism\, this book attempts a long-range dissection of developments\, with the aim of providing a tool for understanding the world-historical changes taking place on the cusp of the end of an era and the beginning of a new macro-historical cycle.
URL:https://metacpc.org/en/activities/parekklisi/
LOCATION:Κήπος του Μουσείου\, 28ης Οκτωβρίου 44\, Αθήνα\, 10682\, Ελλάδα
CATEGORIES:PRESENTATIONS
ATTACH;FMTTYPE=image/png:https://metacpc.org/wp-content/uploads/2023/04/megalh_parekklish-03WEB.png
END:VEVENT
END:VCALENDAR