BEGIN:VCALENDAR
VERSION:2.0
PRODID:-//mέta - ECPv6.15.20//NONSGML v1.0//EN
CALSCALE:GREGORIAN
METHOD:PUBLISH
X-ORIGINAL-URL:https://metacpc.org/en/
X-WR-CALDESC:Events for mέta
REFRESH-INTERVAL;VALUE=DURATION:PT1H
X-Robots-Tag:noindex
X-PUBLISHED-TTL:PT1H
BEGIN:VTIMEZONE
TZID:Europe/Athens
BEGIN:DAYLIGHT
TZOFFSETFROM:+0200
TZOFFSETTO:+0300
TZNAME:EEST
DTSTART:20210328T010000
END:DAYLIGHT
BEGIN:STANDARD
TZOFFSETFROM:+0300
TZOFFSETTO:+0200
TZNAME:EET
DTSTART:20211031T010000
END:STANDARD
BEGIN:DAYLIGHT
TZOFFSETFROM:+0200
TZOFFSETTO:+0300
TZNAME:EEST
DTSTART:20220327T010000
END:DAYLIGHT
BEGIN:STANDARD
TZOFFSETFROM:+0300
TZOFFSETTO:+0200
TZNAME:EET
DTSTART:20221030T010000
END:STANDARD
BEGIN:DAYLIGHT
TZOFFSETFROM:+0200
TZOFFSETTO:+0300
TZNAME:EEST
DTSTART:20230326T010000
END:DAYLIGHT
BEGIN:STANDARD
TZOFFSETFROM:+0300
TZOFFSETTO:+0200
TZNAME:EET
DTSTART:20231029T010000
END:STANDARD
END:VTIMEZONE
BEGIN:VEVENT
DTSTART;TZID=Europe/Athens:20221102T193000
DTEND;TZID=Europe/Athens:20221102T213000
DTSTAMP:20260422T060944
CREATED:20221025T085705Z
LAST-MODIFIED:20221025T090837Z
UID:9257-1667417400-1667424600@metacpc.org
SUMMARY:"Magnetic Fields"\, will be shown by mέta\,  in a special screening at Mikrokosmos cinema\, on November 2nd\, 2022. Arrival time 19:30.
DESCRIPTION:Constantly pursuing the dialogue between art and political endeavour\, mέta\,  the Centre for Postcapitalist Civilisation proceeds with a series of films regularly screened in the multi-space facility of Mikrokosmos\, literally bringing in the centre of our attention a genre connected per se to this pursuit: cinema. \n\n\n\n\n\n\n\nFree entry \n\n\n\nWith the kind contribution of Greek and foreign creators\, who\, quite often\, work in stifling conditions\, mέta proposes to a wider public significant\, recent film productions\, which visualise but also critically problematise various aspects of the multi-faceted crisis surrounding us\, as well as pinpoint emancipatory alternatives. For\, quite often\, optical language proves to be much more eloquent than numerous written pages\, in the depiction of societal reality – at times\, riveting.  \n\n\n\nThe film that will represent us at the Oscars\, “Magnetic Fields” by Giorgos Goussis\, will be shown by mέta\,  in a special screening at Mikrokosmos cinema\, on November 2nd\, 2022. Arrival time 19:30.  \n\n\n\nIn this beautiful and tender road movie\, Elena drives alone to an unknown destination\, when she unexpectedly embarks on the ferry to Kefalonia. There\, she will share her thoughts and life burdens with Antonis\, a man she meets by chance. The two of them begin wandering around the island\, looking for a nice place to bury a metal box that Antonis carries. \n\n\n\n— \n\n\n\nCREDITSDirection: Giorgos GoussisWriters: Giorgos Goussis\, Elena Topalidou\, Antonis Tsiotsiopoulos Director of photography: Giorgos KoutsaliarisEditing: Dimitris PolyzosMusic: Lefteris VolanisProduction: MiniFILMS\, Naked Eye Productions\, HereticProducers: Giorgos Goussis\, Marinos Sklavounakis\, Giorgos Karnavas Co-production: ECCStarring: Elena Topalidou\, Antonis TsiotsiopoulosRuntime: 78′Production Year: 2021  \n\n\n\n— \n\n\n\nAWARDSGolden Alexander Award (Film Forward)FIPRESCI Award Greek Association of Greek Critics AwardFirst ERT Award First Greek Cinema Centre AwardLocation Manager AwardThessaloniki Festival 2021Nominated for Best Film\, Debut Director\, Screenplay\, Best Actress\, Best Actor\, Photography\, Original Music AwardsIris Awards 2022  \n\n\n\n— \n\n\n\nThe screening will be followed by a discussion with the director and the film’s contributors. \n\n\n\n— \n\n\n\nmέta is a civil-non-profit research and cultural institution\, related to the political party MeRA25\, the European movement DiEM25\, and Progressive International. It was established in 2020\, aiming to explore eutopic alternatives to the postcapitalist era in which we are already living\, through academic and cultural actions regarding the political\, social\, economic\, ecological\, cultural\, and civilisational challenges of our times. \n\n\n\nCine Mikrokosmos (member of Europa Cinemas) was born in the fall of 2004\, on Syngrou Avenue\, opposite ex-Fix Industry\, equipped with state – of the – art technology and with a unique architectural approach. Having hosted numerous festivals and tributes\, without ever standing off from first-rate promotions\, committed to cinephile choices\, and particularly hospitable to independent Greek productions\, Mikrokosmos has created its own audience and is chosen for its ideal show conditions\, its careful selections\, and\, occasionally\, for its autonomous bar\, which operates in the foyer at affordable prices and cinematic ambiance. \n\n\n\nGeorge Goussis was born in Athens in 1986 and studied graphic design. He is one of the most famous Greek comic book artist\, and many of his graphic novels have been awarded and become bestsellers. In 2019\, he made his directing debut with the short documentary The “Arm Wrestler“\, which was awarded by the Hellenic Film Academy. “Magnetic Fields“ is his first feature film\, and he will soon be releasing The “Arm Wrestler“ as a feature film.  \n\n\n\nCinema Mikrokosmos Address: Leof. Andrea Syggrou 106\, Athens 117 41
URL:https://metacpc.org/en/activities/meta-cinema-magnetic-fields/
CATEGORIES:mέta CINEMA
ATTACH;FMTTYPE=image/png:https://metacpc.org/wp-content/uploads/2022/10/SOCIAL_MEDIA_MAGNETIC_FIELDS-05-1.png
END:VEVENT
BEGIN:VEVENT
DTSTART;TZID=Europe/Athens:20221115T190000
DTEND;TZID=Europe/Athens:20221115T210000
DTSTAMP:20260422T060944
CREATED:20221108T150621Z
LAST-MODIFIED:20221108T155117Z
UID:9595-1668538800-1668546000@metacpc.org
SUMMARY:Left and ‘governability’: what engagement with power\, on which terms and for whose benefit?
DESCRIPTION:Tuesday 15 November\, 19.00\, in the Greek language\,at “Trianon” cinema (Kodringtonos 21) \n\n\n\nFree Admission | reservations: bit.ly/aristerakyv \n\n\n\nIn recent years the Left\, however we define it\, has attempted\, not only in Greece but also in other European countries\, to take up the challenge of governing in the midst of an unprecedented neoliberal attack on the subordinate classes. These ventures have been by and large a failure and no serious evaluation of them has been ventured in retrospect. There is ‘strategic silence’\, if not adherence to the principles of the opponent\, while the social strata in whose name the left speaks are plunged into degradation and passivisation\, subjected to the blackmail of supporting the ‘lesser evil’ or simply avoiding the notorious ‘ungovernability’. \n\n\n\nIn this light\, mέta | the Centre for Post-Capitalist Culture considers it urgent to return to the strategic debate\, repelled by the absorption of an increasingly repulsive “political current affairs”. A return to the theoretical conquests (and unanswered questions) of the Left\, as well as the invention in the new conditions of crisis of original forms of organization and political practice. \n\n\n\nIn this spirit\, mέta is organizing on Tuesday\, November 15\, at 19.00\, at the “Trianon” cinema (21 Kodrigtonos Street\, Athens 104 34) an event on “Left and “Governability”. \n\n\n\nSpeakers: \n\n\n\nSissy Velissariou\, Professor at the University of Athens\, Vice-Chair of mέta’s Steering Committee.Yannis Kouzis\, Professor at Panteion University.Alexis Smyrlis\, Director of MeRA25’s Policy Planning and Director of MeRA25’s parliamentary group.Panagiotis Sotiris\, PhD in Philosophy\, adjunct lecturer at the Hellenic Open University\, journalistThemis Tzimas\, PhD in Public Law\, lecturer at the Aristotle University of Thessaloniki \n\n\n\nWith an in intervention by Yanis Varoufakis\, Professor at the University of Athens\, MeRA25 Secretary\, co-founder of DiEM25 \n\n\n\nModerator:Sotiris Mitralexis\, PhD in Political Science\, mέta’s research director
URL:https://metacpc.org/en/activities/the-left-and-governability/
LOCATION:meta
CATEGORIES:DISCUSSIONS
ATTACH;FMTTYPE=image/png:https://metacpc.org/wp-content/uploads/2022/11/kyvernissimothta-08-1.png
END:VEVENT
BEGIN:VEVENT
DTSTART;TZID=Europe/Athens:20221129T190000
DTEND;TZID=Europe/Athens:20221129T220000
DTSTAMP:20260422T060944
CREATED:20221124T114832Z
LAST-MODIFIED:20221128T103343Z
UID:9874-1669748400-1669759200@metacpc.org
SUMMARY:IN THE MIRROR OF PALESTINE
DESCRIPTION:On Tuesday 29 November 29\, on the International Day of Solidarity with the Palestinian People\, mέta | the Centre for Postcapitalist Civilisation organises at “Trianon” cinema (Kodrigktonos 21\, Athens) a one-day film festival titled “In the Mirror of Palestine: Images and sounds of a quotidian struggle for dignity and freedom”. \n\n\n\nThis is the second year in a row that the mέta\, guided by the artistic work of Palestinian filmmakers\, has honoured the struggles of the Palestinian people\, which it considers to be central to any effort to shape a more just society in our neighbourhood and internationally\, despite what the dominant discourse claims. \n\n\n\nAleen Shoufani’s ‘Taqi‘ (2021\, 35’)\, Mohammed Almughanni’s ‘Son of the Streets‘ (2020\, 34′) and Vice News’ ‘Inside the Battle for Jesusalem‘ (2021\, 20’) will be screened. The filmmakers will participate with video messages\, while Sofia Sakorafa\, MP with MeRA25\, Deputy Speaker of the Greek Parliament and honorary Palestinian citizen will address the audience and the chair of mέta’s Steering Committee Danai Stratou. \n\n\n\nA discussion will follow on “The importance of solidarity with the Palestinian people in the context of the global crisis” with Italian activist Luisa Morgantini and Yanis Varoufakis MP (secretary of MeRA25\, co-founder of DiEM25) as speakers. \n\n\n\nLuisa Morgantini was for two terms (1999-2009) a member of the European Parliament for the Italian party Rifondazione Communista. She is a figure with decades of struggles in the pacifist\, women’s and trade union movements\, as well as solidarity actions around the world\, particularly in Palestine and the Mediterranean. She leads the Italian section of the anti-war organisation Women in Black. \n\n\n\nGreek subtitling of the films and live translation of the debate will be provided. \n\n\n\nFree admission. Doors open: 18.30 \n\n\n\nThe films \n\n\n\nTaqi (2021\, 35′) by Aleen Shoufani \n\n\n\n\n\n\n\nThe film deals with the story of Taqi Sabateen\, a well-known Palestinian graffiti artist from the West Bank of Jordan\, who expresses his frustration with the occupation\, checkpoints\, the separation wall\, and uses his art and personal life stories as a tool of resistance. \n\n\n\nAleen Shoufani is a filmmaker born in Haifa. She studied film and television at Tel Aviv University (2019-2020). She worked as a nurse. She participated in several productions as a student. Her first film\, the documentary short “Taqi”\, was made during her university film studies at her own expense and was awarded at the Stockholm Film Festival\, Boden International Film Festival\, Vienna Films Awards\, Prisma Film in Rome\, Tagore International Film Festival and Naples Film Awards. \n\n\n\nCast: Taqi Sabateen\, Yusra Sabateen\, Israa Sabateen\, Elyaa Sabateen\, Jolan Sabateen. \n\n\n\nDirected by Aleen Shoufani \n\n\n\nProducers: Aleen Shoufani\, Elias Shoufani \n\n\n\nCinematography: Said Jomaa\, Sigal Zegman\, Aleen Shoufani \n\n\n\nEditing: Wafi Khalil \n\n\n\nRecording: Aleen Shoufani \n\n\n\nSound designer: Sari Matar \n\n\n\nMusic: Elias Garzuzi \n\n\n\n“Son Of The Streets” (2020\, 34′) by Mohammed Almughanni \n\n\n\n\n\n\n\nKhodor is a 13-year-old boy whose family is trying to issue him with an identity document that proves his existence and entitles him to education\, healthcare and movement outside the Palestinian refugee camp of Shatila in Beirut\, Lebanon. During the process\, many of the family’s old secrets are revealed. \n\n\n\nDirector\, writer and filmmaker Mohammed Almughanni was born in 1994 in Gaza. He earned his bachelor’s and master’s degrees in film directing at the Łódź Film School in Poland\, where he produced Son of the Streets. In recent years\, he has shot films in various parts of the world\, including Cuba\, Palestine\, Denmark\, China\, Jordan\, Lebanon\, Poland and Germany. He is a documentary and narrative filmmaker\, including “Blacklisted” (2021)\, “Son Of The Streets” (2020)\, “Falafala” (2019)\, “Operation” (2018)\, “Where’s the Donkey” (2018)\, “Shujayya” (2015)\, and “Halawan” (2012). His films have been selected and awarded at numerous film festivals around the world. \n\n\n\nWritten\, directed\, photographed and edited by Mohammed Almughanni. \n\n\n\n“Son Of The Streets” was awarded at the Jihlava Film Festival in Prague\, Sehsüchte International Student Film Festival in Berlin\, Popoli e Religioni Terni Film Festival in Italy\, Festival Ciné Palestine in Paris\, Long Story Short Film Festival in Wroclaw\, Panorama des cinémas du Maghreb et du Moyen-Orient in Paris and Liberation DocFest Bangladesh in Dhaka. \n\n\n\n“Inside the Battle for Jerusalem” (2021\, 20′) by Vice News \n\n\n\n\n\n\n\nDocumentary on the ground by Palestinian photographer Ayman Abu Ramuz and South African photographer Dan Bitman for Vice News in occupied East Jerusalem. \n\n\n\nVice follows Palestinians in danger of being evicted from their homes in the Sheikh Jarrah neighborhood in order to give them to settlers. Correspondent Hind Hassan talks to residents who are resorting to legal action and protesting while facing attacks by Israeli occupation forces\, arrests\, house searches\, beatings and attempts to occupy by settlers. \n\n\n\nInside the Battle for Jerusalem won two EMMY awards (Best Cinematography and Best News Coverage).
URL:https://metacpc.org/en/activities/palestine-mirror-2/
CATEGORIES:mέta CINEMA,DISCUSSIONS,FESTIVALS
ATTACH;FMTTYPE=image/png:https://metacpc.org/wp-content/uploads/2022/11/PALAISTINI2022_SOCIALMEDIA-WEB-EN-1.png
END:VEVENT
END:VCALENDAR