BEGIN:VCALENDAR
VERSION:2.0
PRODID:-//mέta - ECPv6.15.20//NONSGML v1.0//EN
CALSCALE:GREGORIAN
METHOD:PUBLISH
X-ORIGINAL-URL:https://metacpc.org/en/
X-WR-CALDESC:Events for mέta
REFRESH-INTERVAL;VALUE=DURATION:PT1H
X-Robots-Tag:noindex
X-PUBLISHED-TTL:PT1H
BEGIN:VTIMEZONE
TZID:Europe/Athens
BEGIN:DAYLIGHT
TZOFFSETFROM:+0200
TZOFFSETTO:+0300
TZNAME:EEST
DTSTART:20210328T010000
END:DAYLIGHT
BEGIN:STANDARD
TZOFFSETFROM:+0300
TZOFFSETTO:+0200
TZNAME:EET
DTSTART:20211031T010000
END:STANDARD
BEGIN:DAYLIGHT
TZOFFSETFROM:+0200
TZOFFSETTO:+0300
TZNAME:EEST
DTSTART:20220327T010000
END:DAYLIGHT
BEGIN:STANDARD
TZOFFSETFROM:+0300
TZOFFSETTO:+0200
TZNAME:EET
DTSTART:20221030T010000
END:STANDARD
BEGIN:DAYLIGHT
TZOFFSETFROM:+0200
TZOFFSETTO:+0300
TZNAME:EEST
DTSTART:20230326T010000
END:DAYLIGHT
BEGIN:STANDARD
TZOFFSETFROM:+0300
TZOFFSETTO:+0200
TZNAME:EET
DTSTART:20231029T010000
END:STANDARD
END:VTIMEZONE
BEGIN:VEVENT
DTSTART;TZID=Europe/Athens:20220517T190000
DTEND;TZID=Europe/Athens:20220517T210000
DTSTAMP:20260422T152322
CREATED:20220427T091334Z
LAST-MODIFIED:20221011T110423Z
UID:7017-1652814000-1652821200@metacpc.org
SUMMARY:meta-cinema: premiere 17/05/22\, 19:30 pm at Mikrokosmos\, Ruins a documentary by Zoe Mavroudi
DESCRIPTION:Constantly pursuing the dialogue between art and political endeavour\, the Centre for Postcapitalist Civilisation (mέta) proceeds with a series of films regularly screened in the multi-space facility of Mikrokosmos\, literally bringing in the centre of our attention a genre connected per se to this pursuit: cinema. \n\n\n\n\n\n\n\nWith the kind contribution of Greek and foreign creators\, who\, quite often\, work in stifling conditions\, mέta proposes to a wider public significant\, recent film productions\, which visualise but also critically problematise various aspects of the multi-faceted crisis surrounding us\, as well as pinpoint emancipatory alternatives. For\, quite often\, optical language proves to be much more eloquent than numerous written pages\, in the depiction of societal reality – at times\, riveting. \n\n\n\nRUINSChronicle of an HIV witch-hunt – ten years later. \n\n\n\nMoral panic\, demonisation of HIV-positiveness\, sex work and substance dependence\, coercive medical acts. All this in the service of an election show\, the initiators of which still have the audacity to play a leading role in public life.This is the “case of HIV-positive women” that erupted in May 2012\, with tragic consequences for the women involved and with\, ongoing to date\, juridical implications at a European level.Ten years later\, the Center for Postcapitalist Civlisation (mέta) remembers this sad anniversary and raises questions about social attitudes\, official policies and the communication strategies that accompany it\, and is screening\, as part of the meta-cinema series\, the hourly documentary Ruins/ Ruins (2013) of Zoe Mavroudi\, which is precisely the “chronicle of the shaming” of alleged HIV-positive women. \n\n\n\nThe film will be screened on Tuesday\, May 17th at “Mikrokosmos” (106 Syggrou Avenue) with free entrance for the public and attendance time at 19.30. \n\n\n\nDirected by Zoe MavroudiCamera Operator\, Sound: Giannis ChinosEditor: Antonio RochiraPost-processing: Antonios DimopoulosOriginal Music: Fruto5Composer: Diamanda Galás\, “This is the Law of the Plague” (Plague Mass\, live 1991)Executive Producers: Theodora Oikonomides\, Loukas StamellosPresented by Zoe Mavroudi\, Theodora Oikonomides\, OmniaTV\, Unfollow magazine(Running time: 53 minutes) \n\n\n\nA short discussion with the director as well as interventions by the journalist Mariniki Alevizopoulou\, Marios Atzemis from the HIV-Positive Association\, the lawyer Kostas Farmakidis and a prostituted persons collective representative will follow. \n\n\n\nmέta is a civil-non-profit research and cultural institution\, related to the political party MeRA25\, the European movement DiEM25\, and Progressive International. It was established in 2020\, aiming to explore eutopic alternatives to the postcapitalist era in which we are already living\, through academic and cultural actions regarding the political\, social\, economic\, ecological\, cultural\, and civilisational challenges of our times. \n\n\n\nCine Mikrokosmos (member of Europa Cinemas) was born in the fall of 2004\, on Syngrou Avenue\, opposite ex-Fix Industry\, equipped with state – of the – art technology and with a unique architectural approach. Having hosted numerous festivals and tributes\, without ever standing off from first-rate promotions\, committed to cinephile choices\, and particularly hospitable to independent Greek productions\, Mikrokosmos has created its own audience and is chosen for its ideal show conditions\, its careful selections\, and\, occasionally\, for its autonomous bar\, which operates in the foyer at affordable prices and cinematic ambiance. \n\n\n\nZoe Mavroudi is a filmmaker\, screenwriter\, playwright and actress. Her theatre work has been produced in the USA and in Europe. Her screenplays have won awards at international festivals and contests. She has written about human rights\, politics and film for publications in Greece and the UK.
URL:https://metacpc.org/en/activities/meta-cinema-ruins-zoe-mavroudi/
CATEGORIES:mέta CINEMA
ATTACH;FMTTYPE=image/png:https://metacpc.org/wp-content/uploads/2022/04/SOCIAL_MEDIA_RUINS-05_WEB-4.png
END:VEVENT
END:VCALENDAR