BEGIN:VCALENDAR
VERSION:2.0
PRODID:-//mέta - ECPv6.15.20//NONSGML v1.0//EN
CALSCALE:GREGORIAN
METHOD:PUBLISH
X-WR-CALNAME:mέta
X-ORIGINAL-URL:https://metacpc.org/en/
X-WR-CALDESC:Events for mέta
REFRESH-INTERVAL;VALUE=DURATION:PT1H
X-Robots-Tag:noindex
X-PUBLISHED-TTL:PT1H
BEGIN:VTIMEZONE
TZID:Europe/Athens
BEGIN:DAYLIGHT
TZOFFSETFROM:+0200
TZOFFSETTO:+0300
TZNAME:EEST
DTSTART:20210328T010000
END:DAYLIGHT
BEGIN:STANDARD
TZOFFSETFROM:+0300
TZOFFSETTO:+0200
TZNAME:EET
DTSTART:20211031T010000
END:STANDARD
BEGIN:DAYLIGHT
TZOFFSETFROM:+0200
TZOFFSETTO:+0300
TZNAME:EEST
DTSTART:20220327T010000
END:DAYLIGHT
BEGIN:STANDARD
TZOFFSETFROM:+0300
TZOFFSETTO:+0200
TZNAME:EET
DTSTART:20221030T010000
END:STANDARD
BEGIN:DAYLIGHT
TZOFFSETFROM:+0200
TZOFFSETTO:+0300
TZNAME:EEST
DTSTART:20230326T010000
END:DAYLIGHT
BEGIN:STANDARD
TZOFFSETFROM:+0300
TZOFFSETTO:+0200
TZNAME:EET
DTSTART:20231029T010000
END:STANDARD
END:VTIMEZONE
BEGIN:VEVENT
DTSTART;TZID=Europe/Athens:20220416T140000
DTEND;TZID=Europe/Athens:20220416T200000
DTSTAMP:20260422T165943
CREATED:20220405T200152Z
LAST-MODIFIED:20221014T091037Z
UID:6876-1650117600-1650139200@metacpc.org
SUMMARY:20 Years of Euro: An Assessment in the Shadow of a European War
DESCRIPTION:Admission Free.16-04-2022\, 14:00 Athens timeReservations at: bit.ly/20xroniae or by phone at 210.8847571 (10:00 to 16:00 Monday to Friday). \n\n\n\nThe introduction of the euro (exactly twenty years ago as Greece’s currency) was presented as a big promise of economic convergence and well-being\, in the spirit of the even bigger promise of permanent peace in the European continent. However\, as is all too evident by now\, the euro was instrumental in dividing rather than uniting Europe\, and it put in action centrifugal forces that undermined unification – a prerequisite for a common European foreign policy and defense policy. Today\, in the context of the biggest military conflict on European soil since decades\, a critical re-evaluation of the twenty-year-long history of the common currency is more urgent than ever.In the colloquium organised by mέta on the 16th of April at the Athens’ Technopolis’ we analyse the introduction of the common currency\, its impact during the last two decades\, its geopolitical\, ideological\, and cultural dimensions while contemplating alternatives in the era of digital money.  \n\n\n\nParticipants:  \n\n\n\nMark Blyth is the William R. Rhodes Professor of International Economics and Professor of International and Public Affairs at Brown University\, author of Austerity: The History of a Dangerous Idea (Oxford University Press\, 2013)\, and co-editor of The Future of the Euro (Oxford University Press 2015).Nicholas Theocarakis is a Professor of Political Economy and History of Economic Thought at the University of Athens. He has co-authored Modern Political Economics: Making sense of the post-2008 world with Yanis Varoufakis and Joseph Halevi.Yanis Varoufakis MP is a Professor of Economic Theory at the University of Athens\, Secretary of Greece’s parliamentary party MeRA25\, and co-founder of DiEM25. \n\n\n\nPROGRAMME\n\n\n\n14.00-14.15 – Welcome and introductions \n\n\n\n14.15 -15.30 – Nicholas Theocarakis: The history and political economy of the common currency that weakened Europe | Q&A with the audience \n\n\n\n15.30-15.40 BREAK \n\n\n\n15.40-16.00 Stephanie Kelton: The euro from the perspective of Modern Monetary Theory – via videolink \n\n\n\n16.00-17.30 – Mark Blyth: The euro – an assessment in the midst of a European war| Q&A with Yanis Varoufakis and the audience \n\n\n\n17.30-19.00 – Yanis Varoufakis: Alternatives in the age of digital money | Q&A with the audience
URL:https://metacpc.org/en/activities/20-years-of-euro/
CATEGORIES:DISCUSSIONS
ATTACH;FMTTYPE=image/png:https://metacpc.org/wp-content/uploads/2022/04/SOCIAL_MEDIA_20YearsΝ-09.png
END:VEVENT
END:VCALENDAR