BEGIN:VCALENDAR
VERSION:2.0
PRODID:-//mέta - ECPv6.15.20//NONSGML v1.0//EN
CALSCALE:GREGORIAN
METHOD:PUBLISH
X-WR-CALNAME:mέta
X-ORIGINAL-URL:https://metacpc.org/en/
X-WR-CALDESC:Events for mέta
REFRESH-INTERVAL;VALUE=DURATION:PT1H
X-Robots-Tag:noindex
X-PUBLISHED-TTL:PT1H
BEGIN:VTIMEZONE
TZID:Europe/Athens
BEGIN:DAYLIGHT
TZOFFSETFROM:+0200
TZOFFSETTO:+0300
TZNAME:EEST
DTSTART:20200329T010000
END:DAYLIGHT
BEGIN:STANDARD
TZOFFSETFROM:+0300
TZOFFSETTO:+0200
TZNAME:EET
DTSTART:20201025T010000
END:STANDARD
BEGIN:DAYLIGHT
TZOFFSETFROM:+0200
TZOFFSETTO:+0300
TZNAME:EEST
DTSTART:20210328T010000
END:DAYLIGHT
BEGIN:STANDARD
TZOFFSETFROM:+0300
TZOFFSETTO:+0200
TZNAME:EET
DTSTART:20211031T010000
END:STANDARD
BEGIN:DAYLIGHT
TZOFFSETFROM:+0200
TZOFFSETTO:+0300
TZNAME:EEST
DTSTART:20220327T010000
END:DAYLIGHT
BEGIN:STANDARD
TZOFFSETFROM:+0300
TZOFFSETTO:+0200
TZNAME:EET
DTSTART:20221030T010000
END:STANDARD
END:VTIMEZONE
BEGIN:VEVENT
DTSTART;TZID=Europe/Athens:20210921T190000
DTEND;TZID=Europe/Athens:20210921T210000
DTSTAMP:20260423T034019
CREATED:20210905T113442Z
LAST-MODIFIED:20210909T103105Z
UID:4151-1632250800-1632258000@metacpc.org
SUMMARY:Basic Income — And How We Can Make It Happen
DESCRIPTION:The Centre for Postcapitalist Civilisation\, mέta\, invites you to an open discussion co-organised by mέta\, Athens’ Numismatic Museum and Papasotiriou Publishing on the necessity of Basic Income\,apropos the publication of Guy Standing’s Basic ‘Income: And How We Can Make It Happen’ in Greek (Papasotiriou 2021\, foreword by Yanis Varoufakis). \n\n\n\nThe event (free admission) will take place on Tuesday 21 September\, at 7pm\, in the Garden of Athens’ Numismatic Museum (Panepistimiou Av. 12\, Athens 10671)\, with Prof. Guy Standing and Yanis Varoufakis\, Secretary of MeRA25\, as the discussants. Sotiris Mitralexis\, mέta’s academic director\, will moderate the event\, which will be translated live. \n\n\n\n \n\n\n\nAll prescribed safety measures will be observed. Seats must be pre-booked at +30210.8848270 – +30210.8847571. \n\n\n\nAs the COVID-19 pandemic so poignantly taught us\, this issue couldn’t have been more timely right now. \n\n\n\n‘Shouldn’t everyone receive a stake in society’s wealth? Could we create a fairer world by granting a guaranteed income to all? What would this mean for our health\, wealth and happiness?’   \n\n\n\nProfessor Guy Standing co-founded the Basic Income Earth Network and now serves as its honorary co-President. He has held professorships at the University of Bath and at SOAS\, was programme director at the International Labour Organisation and has advised the UN\, World Bank and governments around the world on labour and social policy. He is the author of the bestselling The Precariat: The New Dangerous Class (2011) and is a Fellow of the Academy of Social Sciences.
URL:https://metacpc.org/en/activities/standing/
LOCATION:Καφέ στον Κήπο του Νομισματικού Μουσείου\, Πανεπιστημίου 12\, Αθήνα\, 106 71\, Ελλάδα
CATEGORIES:SEMINARS
ATTACH;FMTTYPE=image/png:https://metacpc.org/wp-content/uploads/2021/09/SOCIAL_MEDIA_GS-02-web-site.png
END:VEVENT
END:VCALENDAR