BEGIN:VCALENDAR
VERSION:2.0
PRODID:-//mέta - ECPv6.15.20//NONSGML v1.0//EN
CALSCALE:GREGORIAN
METHOD:PUBLISH
X-WR-CALNAME:mέta
X-ORIGINAL-URL:https://metacpc.org/en/
X-WR-CALDESC:Events for mέta
REFRESH-INTERVAL;VALUE=DURATION:PT1H
X-Robots-Tag:noindex
X-PUBLISHED-TTL:PT1H
BEGIN:VTIMEZONE
TZID:Europe/Athens
BEGIN:DAYLIGHT
TZOFFSETFROM:+0200
TZOFFSETTO:+0300
TZNAME:EEST
DTSTART:20200329T010000
END:DAYLIGHT
BEGIN:STANDARD
TZOFFSETFROM:+0300
TZOFFSETTO:+0200
TZNAME:EET
DTSTART:20201025T010000
END:STANDARD
BEGIN:DAYLIGHT
TZOFFSETFROM:+0200
TZOFFSETTO:+0300
TZNAME:EEST
DTSTART:20210328T010000
END:DAYLIGHT
BEGIN:STANDARD
TZOFFSETFROM:+0300
TZOFFSETTO:+0200
TZNAME:EET
DTSTART:20211031T010000
END:STANDARD
BEGIN:DAYLIGHT
TZOFFSETFROM:+0200
TZOFFSETTO:+0300
TZNAME:EEST
DTSTART:20220327T010000
END:DAYLIGHT
BEGIN:STANDARD
TZOFFSETFROM:+0300
TZOFFSETTO:+0200
TZNAME:EET
DTSTART:20221030T010000
END:STANDARD
END:VTIMEZONE
BEGIN:VEVENT
DTSTART;TZID=Europe/Athens:20210331T160000
DTEND;TZID=Europe/Athens:20210331T173000
DTSTAMP:20260423T142029
CREATED:20210423T151316Z
LAST-MODIFIED:20210423T174429Z
UID:2051-1617206400-1617211800@metacpc.org
SUMMARY:ΜέΤΑβάσεις #01
DESCRIPTION:
URL:https://metacpc.org/en/activities/%ce%bc%ce%ad%cf%84%ce%b1%ce%b2%ce%ac%cf%83%ce%b5%ce%b9%cf%82-01/
CATEGORIES:mέtaVASEIS
ATTACH;FMTTYPE=image/jpeg:https://metacpc.org/wp-content/uploads/2021/04/meta_vaseis_SM2_F-02.jpg
END:VEVENT
BEGIN:VEVENT
DTSTART;TZID=Europe/Athens:20210325T160000
DTEND;TZID=Europe/Athens:20210325T173000
DTSTAMP:20260423T142029
CREATED:20210423T145556Z
LAST-MODIFIED:20210601T105833Z
UID:2033-1616688000-1616693400@metacpc.org
SUMMARY:ΜέΤΑβάσεις – Θεματική Εκπομπή
DESCRIPTION:
URL:https://metacpc.org/en/activities/%ce%bc%ce%ad%cf%84%ce%b1%ce%b2%ce%ac%cf%83%ce%b5%ce%b9%cf%82-%ce%b8%ce%b5%ce%bc%ce%b1%cf%84%ce%b9%ce%ba%ce%ae-%ce%b5%ce%ba%cf%80%ce%bf%ce%bc%cf%80%ce%ae/
CATEGORIES:mέtaVASEIS
ATTACH;FMTTYPE=image/jpeg:https://metacpc.org/wp-content/uploads/2021/04/meta_vaseis_SM2_F-02.jpg
END:VEVENT
BEGIN:VEVENT
DTSTART;TZID=Europe/Athens:20210318T200000
DTEND;TZID=Europe/Athens:20210318T220000
DTSTAMP:20260423T142029
CREATED:20210423T122239Z
LAST-MODIFIED:20210428T134128Z
UID:1989-1616097600-1616104800@metacpc.org
SUMMARY:Police violence “Law and Order” and mutations of the concept of security
DESCRIPTION:https://www.youtube.com/watch?v=nY3lrZK7nns \n\n\n\nHow is anti-crime policy politicised and how is political protest criminalised under pandemic conditions? How mature is Greek society’s dilemma between safety and freedom? What is the role of the media in the “illegality” narrative and the doctrine of “law and order”? What is precisely the case with new policing practices\, police training and the weaponry of police forces/militarisation? Which forms of political and civilian control of the police violence can we set forth? \n\n\n\nInterlocutors: Dr Charalambos Kouroundis\, lawyer\, Law School\, Aristotle University of Thessaloniki \n\n\n\nDr Georgios Papanicolaou\, Reader in Criminology\, Teesside University\, UK \n\n\n\nProf. Anastassia Tsoukala\, Associate Professor of Criminology\, University of Paris-Sud \n\n\n\nHost: Kostas Raptis\, journalist\, mέta’s press officer
URL:https://metacpc.org/en/activities/police-violence-law-and-order-and-mutations-of-the-concept-of-security/
CATEGORIES:DISCUSSIONS
ATTACH;FMTTYPE=image/jpeg:https://metacpc.org/wp-content/uploads/2021/04/Police-Violence.jpg
END:VEVENT
BEGIN:VEVENT
DTSTART;TZID=Europe/Athens:20210306T200000
DTEND;TZID=Europe/Athens:20210306T220000
DTSTAMP:20260423T142029
CREATED:20210423T124249Z
LAST-MODIFIED:20220317T130648Z
UID:1994-1615060800-1615068000@metacpc.org
SUMMARY:Sexual violence and abuse of the vulnerable: Timeless problems with a current cause
DESCRIPTION:Apropos of current issues in Greece’s public discourse\, i.e. the “Lignadis case” of alleged child abuses and rapes by the Director of Greece’s National Theatre\, the Centre for Postcapitalist Civilisation (mέta)is inviting you to a livestreamed discussion on Saturday 6 March 2021\, 18:30-20:30\, on the topic: \n\n\n\nSexual violence and the abuse of the vulnerable: Roots of the problem beyond the current news cycle \n\n\n\nHow is the phenomenon of sexual violence against adolescents and vulnerable young adults related to the forms and structures of power in the Greek society? Which are the distinctive characteristics of adolescent abuse in our country and worldwide? How is the duty of their protection impeded by social stereotypes\, lack of appropriate protocols and incurable lacunae in the way the state addresses the phenomenon? How do the minutiae of partisan politics occlude and disorient from the harsher aspects of sexual violence against the vulnerable? \n\n\n\nDiscussants: \n\n\n\n—Mariniki Alevizopoulou\, journalist\, The Manifold \n\n\n\n—Ioannis Vlachos\, lawyer \n\n\n\n—Maria Karakitsou\, actress \n\n\n\n—George Nikolaidis\, psychiatrist\, Greece’s spokesperson member at the the Lanzarote Committee of the Council of Europe (i.e. the Committee of the Parties to the Convention on the Protection of Children against Sexual Exploitation and Sexual Abuse) \n\n\n\nComment: \n\n\n\n—Sarandos Theodoropoulos\, lawyer \n\n\n\nHost: Kostas Raptis\, journalist\, mέta’s press officer \n\n\n\nThe event will be livestreamed at the mέta’s YouTube Channel. Questions to the discussants may be sent via e-mail at: postcapitalism.centre@gmail.com
URL:https://metacpc.org/en/activities/sexual-violence-and-abuse-of-the-vulnerable-timeless-problems-with-a-current-cause/
CATEGORIES:DISCUSSIONS
ATTACH;FMTTYPE=image/jpeg:https://metacpc.org/wp-content/uploads/2021/03/Domestic.jpg
END:VEVENT
BEGIN:VEVENT
DTSTART;TZID=Europe/Athens:20210224T200000
DTEND;TZID=Europe/Athens:20210224T220000
DTSTAMP:20260423T142029
CREATED:20210423T124437Z
LAST-MODIFIED:20211109T125125Z
UID:1996-1614196800-1614204000@metacpc.org
SUMMARY:Conservative Turn in Greece’s Crisis – The ideological TINA is not written in stone
DESCRIPTION:This presentation offers an overview of empirical data and its fluctuations over many years\, such as data on the crisis of institutions and political ideologies. The presentation asks questions such as\, how may political conservatism be defined? Is it on the rise in Greece? Or was it only an empowerment of right- wing policies that took place? Is Greek society’s conservative turn an unavoidable necessity\, or does the pandemic offer a starting point for change? \n\n\n\nPresentation:Yannis Mavris\, PolSci PhD & Public Issue (chair) \n\n\n\nIntroduction: Sissy Velissariou \n\n\n\nProfessor of English Literature\, University of Athens\, vice-chair of mέta’s Steering Committee\, member of MeRA25’s Political Secretariat \n\n\n\nHost: Kostas Raptis\, Press Officer\, mέta
URL:https://metacpc.org/en/activities/conservative-turn-in-greeces-crisis-the-ideological-tina-is-not-written-in-stone/
CATEGORIES:SEMINARS
ATTACH;FMTTYPE=image/jpeg:https://metacpc.org/wp-content/uploads/2021/03/conservatism.jpg
END:VEVENT
BEGIN:VEVENT
DTSTART;TZID=Europe/Athens:20210205T200000
DTEND;TZID=Europe/Athens:20210205T220000
DTSTAMP:20260423T142029
CREATED:20210423T125036Z
LAST-MODIFIED:20210426T163702Z
UID:2004-1612555200-1612562400@metacpc.org
SUMMARY:Seminar of Y. Varoufakis & N. Theocharakis: Debt prison is always here and we are in it
DESCRIPTION:https://www.youtube.com/watch?v=lpHEPAtNakg \n\n\n\nWhat is the meaning of public debt and what is its difference from private debt? How is debt involved in the question of monetary sovereignty? What brought about Greece’s debt crisis? How was debt utilized and for the accomplishment of which goals? \n\n\n\nDiscussants: – Yanis Varoufakis\, economics professor at the University of Athens\, Secretary of MeRA25 – Nicholas Theocarakis\, economics professor at the University of Athens \n\n\n\nHost: Kostas Raptis\, press officer of mέta
URL:https://metacpc.org/en/activities/seminar-of-y-varoufakis-n-theocharakis-debt-prison-is-always-here-and-we-are-in-it/
CATEGORIES:SEMINARS
ATTACH;FMTTYPE=image/jpeg:https://metacpc.org/wp-content/uploads/2021/03/debt.jpg
END:VEVENT
BEGIN:VEVENT
DTSTART;TZID=Europe/Athens:20210128T200000
DTEND;TZID=Europe/Athens:20210128T220000
DTSTAMP:20260423T142029
CREATED:20210423T125232Z
LAST-MODIFIED:20210423T125234Z
UID:2007-1611864000-1611871200@metacpc.org
SUMMARY:At the Threshold: Postcapitalism\, Postanarchism and the Pandemic /A Discussion with Prof Saul Newman
DESCRIPTION:At the Threshold: Postcapitalism\, Postanarchism and the Pandemic A Discussion  \n\n\n\nProfessor Saul Newman Professor of Political Theory — Goldsmiths\, University of London   \n\n\n\nDr Sotiris Mitralexis Academic Director — ΜέΤΑ\, Centre for Postcapitalist Civilisation 9 September 2020
URL:https://metacpc.org/en/activities/at-the-threshold-postcapitalism-postanarchism-and-the-pandemic-a-discussion-with-prof-saul-newman/
CATEGORIES:DISCUSSIONS
ATTACH;FMTTYPE=image/jpeg:https://metacpc.org/wp-content/uploads/2021/03/Newman.jpg
END:VEVENT
BEGIN:VEVENT
DTSTART;TZID=Europe/Athens:20210115T200000
DTEND;TZID=Europe/Athens:20210115T220000
DTSTAMP:20260423T142029
CREATED:20210423T125446Z
LAST-MODIFIED:20210507T121144Z
UID:2009-1610740800-1610748000@metacpc.org
SUMMARY:Spring of 2015: Inside an undermined negotiation/ Prof. Nicholas Theocarakis
DESCRIPTION:Seminar for the members of MeRA25’s Central Committee\, Friday 8 & 15 January 2021 \n\n\n\nNickos TheocarakisProfessor of Political Economy and History of Economic Thought at the University of Athens\, Department of Economic Scienc \n\n\n\nHost: Kostas Raptis\, research associate & press officer of mέta – Centre of Postcapitalist Civilisation
URL:https://metacpc.org/en/activities/spring-of-2015-inside-an-undermined-negotiation-prof-nicholas-theocarakis/
LOCATION:metacpc
CATEGORIES:SEMINARS
ATTACH;FMTTYPE=image/jpeg:https://metacpc.org/wp-content/uploads/2021/03/Untitled-1.jpg
END:VEVENT
END:VCALENDAR