BEGIN:VCALENDAR
VERSION:2.0
PRODID:-//mέta - ECPv6.15.20//NONSGML v1.0//EN
CALSCALE:GREGORIAN
METHOD:PUBLISH
X-WR-CALNAME:mέta
X-ORIGINAL-URL:https://metacpc.org/en/
X-WR-CALDESC:Events for mέta
REFRESH-INTERVAL;VALUE=DURATION:PT1H
X-Robots-Tag:noindex
X-PUBLISHED-TTL:PT1H
BEGIN:VTIMEZONE
TZID:Europe/Athens
BEGIN:DAYLIGHT
TZOFFSETFROM:+0200
TZOFFSETTO:+0300
TZNAME:EEST
DTSTART:20200329T010000
END:DAYLIGHT
BEGIN:STANDARD
TZOFFSETFROM:+0300
TZOFFSETTO:+0200
TZNAME:EET
DTSTART:20201025T010000
END:STANDARD
BEGIN:DAYLIGHT
TZOFFSETFROM:+0200
TZOFFSETTO:+0300
TZNAME:EEST
DTSTART:20210328T010000
END:DAYLIGHT
BEGIN:STANDARD
TZOFFSETFROM:+0300
TZOFFSETTO:+0200
TZNAME:EET
DTSTART:20211031T010000
END:STANDARD
BEGIN:DAYLIGHT
TZOFFSETFROM:+0200
TZOFFSETTO:+0300
TZNAME:EEST
DTSTART:20220327T010000
END:DAYLIGHT
BEGIN:STANDARD
TZOFFSETFROM:+0300
TZOFFSETTO:+0200
TZNAME:EET
DTSTART:20221030T010000
END:STANDARD
BEGIN:DAYLIGHT
TZOFFSETFROM:+0200
TZOFFSETTO:+0300
TZNAME:EEST
DTSTART:20230326T010000
END:DAYLIGHT
BEGIN:STANDARD
TZOFFSETFROM:+0300
TZOFFSETTO:+0200
TZNAME:EET
DTSTART:20231029T010000
END:STANDARD
END:VTIMEZONE
BEGIN:VEVENT
DTSTART;TZID=Europe/Athens:20220223T160000
DTEND;TZID=Europe/Athens:20220223T173000
DTSTAMP:20260421T082110
CREATED:20220224T143016Z
LAST-MODIFIED:20220224T143204Z
UID:6364-1645632000-1645637400@metacpc.org
SUMMARY:mέtaVASEIS radio 23 February 2022
DESCRIPTION:Στις σημερινές #mέtaβάσεις\, την εκπομπή του Κέντρου Μετακαπιταλιστικού Πολιτισμού\, @metacpc\, στο #ΡάδιοΜέΡΑ με τον Κώστα Ράπτη: \n\n\n\n🟥 Ο αρχιτέκτονας Θάνος Ανδρίτσος δίνει τη μαρτυρία του τι είναι οι Λαϊκές Δημοκρατίες του Ντονμπάς. \n\n\n\n🟥 Ο διασώστης Ιάσονας Αποστολόπουλος (@Iasonas_Apost) καλεσμένος στο στούντιο\, για να μας μιλήσει για την ανομία των pushbacks ως κρατική πολιτική \n\n\n\n🟥Ο πολιτικός επιστήμονας Άγγελος Γουνόπουλος για το λαϊκιστικό φαινόμενο στη Λατινική Αμερική και τις θρησκευτικές του συνδηλώσεις. \n\n\n\n🟥 Η εκ των συνδιοργανωτών του Ελληνικού Μουσείου Αυτοχειρίας Ναταλί Φύτρου για το εγχείρημα καταγραφής 200 χρόνων ζόφου.
URL:https://metacpc.org/en/activities/23-february-2022/
CATEGORIES:mέtaVASEIS
ATTACH;FMTTYPE=image/jpeg:https://metacpc.org/wp-content/uploads/2021/04/meta_vaseis_SM2_F-02.jpg
END:VEVENT
BEGIN:VEVENT
DTSTART;TZID=Europe/Athens:20211124T160000
DTEND;TZID=Europe/Athens:20211124T173000
DTSTAMP:20260421T082110
CREATED:20211125T142718Z
LAST-MODIFIED:20211125T142720Z
UID:5265-1637769600-1637775000@metacpc.org
SUMMARY:mέtaVASEIS\, 24 November 2021
DESCRIPTION:Η ραδιοφωνική εκπομπή ΜέΤΑβάσεις της 24ης Νοεμβρίου 2021 με τον Κώστα Ράπτη:
URL:https://metacpc.org/en/activities/m%ce%adtavaseis-24-november-2021/
CATEGORIES:mέtaVASEIS
ATTACH;FMTTYPE=image/jpeg:https://metacpc.org/wp-content/uploads/2021/04/meta_vaseis_SM2_F-02.jpg
END:VEVENT
BEGIN:VEVENT
DTSTART;TZID=Europe/Athens:20211117T160000
DTEND;TZID=Europe/Athens:20211117T173000
DTSTAMP:20260421T082110
CREATED:20211125T142349Z
LAST-MODIFIED:20211125T142351Z
UID:5254-1637164800-1637170200@metacpc.org
SUMMARY:mέtaVASEIS\, 17 November 2021
DESCRIPTION:Η ραδιοφωνική εκπομπή ΜέΤΑβάσεις της 17ης Νοεμβρίου 2021\, με τον Κώστα Ράπτη και ειδικό αφιέρωμα στην επέτειο:
URL:https://metacpc.org/en/activities/m%ce%adtavaseis-17-november-2021/
CATEGORIES:mέtaVASEIS
ATTACH;FMTTYPE=image/jpeg:https://metacpc.org/wp-content/uploads/2021/04/meta_vaseis_SM2_F-02.jpg
END:VEVENT
BEGIN:VEVENT
DTSTART;TZID=Europe/Athens:20211110T160000
DTEND;TZID=Europe/Athens:20211110T173000
DTSTAMP:20260421T082110
CREATED:20211125T142337Z
LAST-MODIFIED:20211125T142339Z
UID:5255-1636560000-1636565400@metacpc.org
SUMMARY:mέtaVASEIS\, 10 November 2021
DESCRIPTION:Η ραδιοφωνική εκπομπή ΜέΤΑβάσεις της 10ης Νοεμβρίου 2021\, με τον Κώστα Ράπτη:
URL:https://metacpc.org/en/activities/m%ce%adtavaseis-10-november-2021/
CATEGORIES:mέtaVASEIS
ATTACH;FMTTYPE=image/jpeg:https://metacpc.org/wp-content/uploads/2021/04/meta_vaseis_SM2_F-02.jpg
END:VEVENT
BEGIN:VEVENT
DTSTART;TZID=Europe/Athens:20211103T180000
DTEND;TZID=Europe/Athens:20211103T193000
DTSTAMP:20260421T082110
CREATED:20211125T142319Z
LAST-MODIFIED:20211125T142321Z
UID:5256-1635962400-1635967800@metacpc.org
SUMMARY:mέtaVASEIS\, 3 November 2021
DESCRIPTION:Η ραδιοφωνική εκπομπή ΜέΤΑβάσεις της 3ης Νοεμβρίου 2021\, με τον Κώστα Ράπτη:
URL:https://metacpc.org/en/activities/m%ce%adtavaseis-3-november-2021/
CATEGORIES:mέtaVASEIS
ATTACH;FMTTYPE=image/jpeg:https://metacpc.org/wp-content/uploads/2021/04/meta_vaseis_SM2_F-02.jpg
END:VEVENT
BEGIN:VEVENT
DTSTART;TZID=Europe/Athens:20210623T160000
DTEND;TZID=Europe/Athens:20210623T173000
DTSTAMP:20260421T082110
CREATED:20210621T154517Z
LAST-MODIFIED:20210701T111344Z
UID:3844-1624464000-1624469400@metacpc.org
SUMMARY:Απέναντι στη δυστοπία της αποδιάρθρωσης των εργασιακών σχέσεων
DESCRIPTION:Η εκπομπή κίνησης ιδεών “Μεταβάσεις” του Κέντρου Μετακαπιταλιστικού Πολιτισμού μεταδίδει την Τετάρτη 23 Ιουνίου (από τις 16.00 και μετά) στο Ράδιο ΜΕΡΑ την πλήρη ηχογράφηση των εισηγήσεων των Γ. Κουζή\, Μ. Απατζίδη\, Β. Μισσού και Δ. Κατσορίδα\, καθώς και την συζήτηση που ακολούθησε με το κοινό\, κατά την δια ζώσης εκδήλωση που διοργάνωσε το mέta την περασμένη Τρίτη στον κήπο του Συλλόγου Ελλήνων Αρχαιολόγων\, ενόψει της ψήφισης του νομοσχεδίου Χατζηδάκη\, με θέμα την αποδιάρθρωση των εργασιακών σχέσεων.
URL:https://metacpc.org/en/activities/ergasiaka-2/
CATEGORIES:mέtaVASEIS
ATTACH;FMTTYPE=image/png:https://metacpc.org/wp-content/uploads/2021/05/meta_vaseis_1920x1080B-02.png
END:VEVENT
BEGIN:VEVENT
DTSTART;TZID=Europe/Athens:20210421T160000
DTEND;TZID=Europe/Athens:20210421T173000
DTSTAMP:20260421T082110
CREATED:20210423T190545Z
LAST-MODIFIED:20210601T105818Z
UID:2146-1619020800-1619026200@metacpc.org
SUMMARY:ΜέΤΑβάσεις #04
DESCRIPTION:
URL:https://metacpc.org/en/activities/metavaseis-04b/
LOCATION:meta
CATEGORIES:mέtaVASEIS
ATTACH;FMTTYPE=image/jpeg:https://metacpc.org/wp-content/uploads/2021/04/meta_vaseis_SM2_F-02.jpg
END:VEVENT
BEGIN:VEVENT
DTSTART;TZID=Europe/Athens:20210414T160000
DTEND;TZID=Europe/Athens:20210414T173000
DTSTAMP:20260421T082110
CREATED:20210423T191044Z
LAST-MODIFIED:20210601T105809Z
UID:2150-1618416000-1618421400@metacpc.org
SUMMARY:ΜέΤΑβάσεις #03
DESCRIPTION:
URL:https://metacpc.org/en/activities/metavaseis-03b-2/
LOCATION:meta
CATEGORIES:mέtaVASEIS
ATTACH;FMTTYPE=image/jpeg:https://metacpc.org/wp-content/uploads/2021/04/meta_vaseis_SM2_F-02.jpg
END:VEVENT
BEGIN:VEVENT
DTSTART;TZID=Europe/Athens:20210407T160000
DTEND;TZID=Europe/Athens:20210407T173000
DTSTAMP:20260421T082110
CREATED:20210423T191210Z
LAST-MODIFIED:20210601T105759Z
UID:2152-1617811200-1617816600@metacpc.org
SUMMARY:ΜέΤΑβάσεις #02 / mέta's radio show
DESCRIPTION:
URL:https://metacpc.org/en/activities/metvaseis-02b/
LOCATION:meta
CATEGORIES:mέtaVASEIS
ATTACH;FMTTYPE=image/jpeg:https://metacpc.org/wp-content/uploads/2021/04/meta_vaseis_SM2_F-02.jpg
END:VEVENT
BEGIN:VEVENT
DTSTART;TZID=Europe/Athens:20210331T160000
DTEND;TZID=Europe/Athens:20210331T173000
DTSTAMP:20260421T082110
CREATED:20210423T151316Z
LAST-MODIFIED:20210423T174429Z
UID:2051-1617206400-1617211800@metacpc.org
SUMMARY:ΜέΤΑβάσεις #01
DESCRIPTION:
URL:https://metacpc.org/en/activities/%ce%bc%ce%ad%cf%84%ce%b1%ce%b2%ce%ac%cf%83%ce%b5%ce%b9%cf%82-01/
CATEGORIES:mέtaVASEIS
ATTACH;FMTTYPE=image/jpeg:https://metacpc.org/wp-content/uploads/2021/04/meta_vaseis_SM2_F-02.jpg
END:VEVENT
BEGIN:VEVENT
DTSTART;TZID=Europe/Athens:20210325T160000
DTEND;TZID=Europe/Athens:20210325T173000
DTSTAMP:20260421T082110
CREATED:20210423T145556Z
LAST-MODIFIED:20210601T105833Z
UID:2033-1616688000-1616693400@metacpc.org
SUMMARY:ΜέΤΑβάσεις – Θεματική Εκπομπή
DESCRIPTION:
URL:https://metacpc.org/en/activities/%ce%bc%ce%ad%cf%84%ce%b1%ce%b2%ce%ac%cf%83%ce%b5%ce%b9%cf%82-%ce%b8%ce%b5%ce%bc%ce%b1%cf%84%ce%b9%ce%ba%ce%ae-%ce%b5%ce%ba%cf%80%ce%bf%ce%bc%cf%80%ce%ae/
CATEGORIES:mέtaVASEIS
ATTACH;FMTTYPE=image/jpeg:https://metacpc.org/wp-content/uploads/2021/04/meta_vaseis_SM2_F-02.jpg
END:VEVENT
END:VCALENDAR